Package: Travel Version: 1.3.1 Command: D:\biocbuild\bbs-3.15-bioc\R\bin\R.exe CMD check --no-multiarch --install=check:Travel.install-out.txt --library=D:\biocbuild\bbs-3.15-bioc\R\library --no-vignettes --timings Travel_1.3.1.tar.gz StartedAt: 2022-03-17 20:31:21 -0400 (Thu, 17 Mar 2022) EndedAt: 2022-03-17 20:32:40 -0400 (Thu, 17 Mar 2022) EllapsedTime: 79.4 seconds RetCode: 0 Status: OK CheckDir: Travel.Rcheck Warnings: 0