Package: Travel Version: 1.3.1 Command: rm -rf Travel.buildbin-libdir && mkdir Travel.buildbin-libdir && D:\biocbuild\bbs-3.15-bioc\R\bin\R.exe CMD INSTALL --build --library=Travel.buildbin-libdir Travel_1.3.1.tar.gz StartedAt: 2022-03-17 21:45:45 -0400 (Thu, 17 Mar 2022) EndedAt: 2022-03-17 21:46:59 -0400 (Thu, 17 Mar 2022) EllapsedTime: 74.4 seconds RetCode: 0 Status: OK PackageFile: Travel_1.3.1.zip PackageFileSize: 818 KiB