Package: Travel Version: 1.4.0 Command: chmod a+r Travel -R && F:\biocbuild\bbs-3.15-bioc\R\bin\R.exe CMD build --keep-empty-dirs --no-resave-data Travel StartedAt: 2022-10-18 21:31:04 -0400 (Tue, 18 Oct 2022) EndedAt: 2022-10-18 21:32:43 -0400 (Tue, 18 Oct 2022) EllapsedTime: 99.1 seconds RetCode: 0 Status: OK PackageFile: Travel_1.4.0.tar.gz PackageFileSize: 429.4 KiB