Package: TitanCNA Version: 1.34.0 Command: chmod a+r TitanCNA -R && F:\biocbuild\bbs-3.15-bioc\R\bin\R.exe CMD build --keep-empty-dirs --no-resave-data TitanCNA StartedAt: 2022-10-18 21:28:27 -0400 (Tue, 18 Oct 2022) EndedAt: 2022-10-18 21:30:18 -0400 (Tue, 18 Oct 2022) EllapsedTime: 111.2 seconds RetCode: 0 Status: OK PackageFile: TitanCNA_1.34.0.tar.gz PackageFileSize: 3.604 MiB