git_url: https://git.bioconductor.org/packages/TRONCO git_branch: RELEASE_3_15 git_last_commit: 962edc7 git_last_commit_date: 2022-04-26 11:23:23 -0400 (Tue, 26 Apr 2022) Package: TRONCO Version: 2.28.0 Maintainer: Luca De Sano MaintainerEmail: luca.desano at gmail.com