Package: TFEA.ChIP Version: 1.16.0 Command: chmod a+r TFEA.ChIP -R && F:\biocbuild\bbs-3.15-bioc\R\bin\R.exe CMD build --keep-empty-dirs --no-resave-data TFEA.ChIP StartedAt: 2022-10-18 21:26:45 -0400 (Tue, 18 Oct 2022) EndedAt: 2022-10-18 21:28:25 -0400 (Tue, 18 Oct 2022) EllapsedTime: 99.1 seconds RetCode: 0 Status: OK PackageFile: TFEA.ChIP_1.16.0.tar.gz PackageFileSize: 5.26 MiB