Package: Sushi Version: 1.34.0 Command: /Library/Frameworks/R.framework/Resources/bin/R CMD check --install=check:Sushi.install-out.txt --library=/Library/Frameworks/R.framework/Resources/library --no-vignettes --timings Sushi_1.34.0.tar.gz StartedAt: 2022-10-19 08:42:35 -0400 (Wed, 19 Oct 2022) EndedAt: 2022-10-19 08:46:12 -0400 (Wed, 19 Oct 2022) EllapsedTime: 216.7 seconds RetCode: 0 Status: WARNINGS CheckDir: Sushi.Rcheck Warnings: 3