Package: Sushi Version: 1.34.0 Command: /Library/Frameworks/R.framework/Resources/bin/R CMD build --keep-empty-dirs --no-resave-data Sushi StartedAt: 2022-10-18 22:10:18 -0400 (Tue, 18 Oct 2022) EndedAt: 2022-10-18 22:11:28 -0400 (Tue, 18 Oct 2022) EllapsedTime: 70.3 seconds RetCode: 0 Status: OK PackageFile: Sushi_1.34.0.tar.gz PackageFileSize: 4.063 MiB