git_url: https://git.bioconductor.org/packages/SpacePAC git_branch: RELEASE_3_15 git_last_commit: 612472f git_last_commit_date: 2022-04-26 11:15:52 -0400 (Tue, 26 Apr 2022) Package: SpacePAC Version: 1.34.0 Maintainer: Gregory Ryslik MaintainerEmail: gregory.ryslik at yale.edu