Package: SingleCellSignalR Version: 1.8.0 Command: F:\biocbuild\bbs-3.15-bioc\R\bin\R.exe CMD check --no-multiarch --install=check:SingleCellSignalR.install-out.txt --library=F:\biocbuild\bbs-3.15-bioc\R\library --no-vignettes --timings SingleCellSignalR_1.8.0.tar.gz StartedAt: 2022-10-19 04:14:53 -0400 (Wed, 19 Oct 2022) EndedAt: 2022-10-19 04:18:59 -0400 (Wed, 19 Oct 2022) EllapsedTime: 245.4 seconds RetCode: 0 Status: WARNINGS CheckDir: SingleCellSignalR.Rcheck Warnings: 1