Package: SingleCellSignalR Version: 1.8.0 Command: rm -rf SingleCellSignalR.buildbin-libdir && mkdir SingleCellSignalR.buildbin-libdir && /Users/biocbuild/BBS/utils/build-universal.sh SingleCellSignalR_1.8.0.tar.gz /Library/Frameworks/R.framework/Resources/bin/R SingleCellSignalR.buildbin-libdir StartedAt: 2022-10-19 11:12:57 -0400 (Wed, 19 Oct 2022) EndedAt: 2022-10-19 11:14:22 -0400 (Wed, 19 Oct 2022) EllapsedTime: 84.7 seconds RetCode: 0 Status: OK PackageFile: SingleCellSignalR_1.8.0.tgz PackageFileSize: 6.171 MiB