git_url: https://git.bioconductor.org/packages/SingleCellSignalR git_branch: RELEASE_3_15 git_last_commit: b0e29be git_last_commit_date: 2022-04-26 12:05:12 -0400 (Tue, 26 Apr 2022) Package: SingleCellSignalR Version: 1.8.0 Maintainer: Jacques Colinge MaintainerEmail: jacques.colinge at inserm.fr