Package: SeqSQC Version: 1.18.0 Command: /home/biocbuild/bbs-3.15-bioc/R/bin/R CMD check --install=check:SeqSQC.install-out.txt --library=/home/biocbuild/bbs-3.15-bioc/R/library --no-vignettes --timings SeqSQC_1.18.0.tar.gz StartedAt: 2022-10-18 21:48:25 -0400 (Tue, 18 Oct 2022) EndedAt: 2022-10-18 21:51:03 -0400 (Tue, 18 Oct 2022) EllapsedTime: 158.4 seconds RetCode: 0 Status: OK CheckDir: SeqSQC.Rcheck Warnings: 0