Package: SeqArray Version: 1.36.3 Command: chmod a+r SeqArray -R && F:\biocbuild\bbs-3.15-bioc\R\bin\R.exe CMD build --keep-empty-dirs --no-resave-data SeqArray StartedAt: 2022-10-18 21:02:31 -0400 (Tue, 18 Oct 2022) EndedAt: 2022-10-18 21:07:11 -0400 (Tue, 18 Oct 2022) EllapsedTime: 280.6 seconds RetCode: 0 Status: OK PackageFile: SeqArray_1.36.3.tar.gz PackageFileSize: 2.958 MiB