Package: SeqArray Version: 1.36.3 Command: rm -rf SeqArray.buildbin-libdir && mkdir SeqArray.buildbin-libdir && F:\biocbuild\bbs-3.15-bioc\R\bin\R.exe CMD INSTALL --build --library=SeqArray.buildbin-libdir SeqArray_1.36.3.tar.gz StartedAt: 2022-10-19 06:34:20 -0400 (Wed, 19 Oct 2022) EndedAt: 2022-10-19 06:35:23 -0400 (Wed, 19 Oct 2022) EllapsedTime: 63.2 seconds RetCode: 0 Status: OK PackageFile: SeqArray_1.36.3.zip PackageFileSize: 3.451 MiB