Package: ScaledMatrix Version: 1.3.0 Command: D:\biocbuild\bbs-3.15-bioc\R\bin\R.exe CMD INSTALL ScaledMatrix StartedAt: 2022-03-17 15:37:57 -0400 (Thu, 17 Mar 2022) EndedAt: 2022-03-17 15:39:03 -0400 (Thu, 17 Mar 2022) EllapsedTime: 65.8 seconds RetCode: 0 Status: OK