Package: STROMA4 Version: 1.20.0 Command: /Library/Frameworks/R.framework/Resources/bin/R CMD build --keep-empty-dirs --no-resave-data STROMA4 StartedAt: 2022-10-18 22:07:56 -0400 (Tue, 18 Oct 2022) EndedAt: 2022-10-18 22:08:23 -0400 (Tue, 18 Oct 2022) EllapsedTime: 27.1 seconds RetCode: 0 Status: OK PackageFile: STROMA4_1.20.0.tar.gz PackageFileSize: 204.5 KiB