Package: SRAdb Version: 1.58.1 Command: /Library/Frameworks/R.framework/Resources/bin/R CMD build --keep-empty-dirs --no-resave-data SRAdb StartedAt: 2022-10-18 22:05:04 -0400 (Tue, 18 Oct 2022) EndedAt: 2022-10-18 22:05:29 -0400 (Tue, 18 Oct 2022) EllapsedTime: 24.9 seconds RetCode: 0 Status: OK PackageFile: SRAdb_1.58.1.tar.gz PackageFileSize: 880.2 KiB