Package: SPOTlight Version: 1.0.0 Command: /home/biocbuild/bbs-3.15-bioc/R/bin/R CMD check --install=check:SPOTlight.install-out.txt --library=/home/biocbuild/bbs-3.15-bioc/R/library --no-vignettes --timings SPOTlight_1.0.0.tar.gz StartedAt: 2022-10-18 21:59:29 -0400 (Tue, 18 Oct 2022) EndedAt: 2022-10-18 22:05:40 -0400 (Tue, 18 Oct 2022) EllapsedTime: 371.2 seconds RetCode: 0 Status: OK CheckDir: SPOTlight.Rcheck Warnings: 0