Package: SNPRelate Version: 1.29.0 Command: rm -rf SNPRelate.buildbin-libdir && mkdir SNPRelate.buildbin-libdir && D:\biocbuild\bbs-3.15-bioc\R\bin\R.exe CMD INSTALL --build --library=SNPRelate.buildbin-libdir SNPRelate_1.29.0.tar.gz StartedAt: 2022-03-17 21:41:26 -0400 (Thu, 17 Mar 2022) EndedAt: 2022-03-17 21:42:43 -0400 (Thu, 17 Mar 2022) EllapsedTime: 76.9 seconds RetCode: 0 Status: OK PackageFile: SNPRelate_1.29.0.zip PackageFileSize: 2.703 MiB