Package: SNPRelate Version: 1.30.1 Command: rm -rf SNPRelate.buildbin-libdir && mkdir SNPRelate.buildbin-libdir && /Users/biocbuild/BBS/utils/build-universal.sh SNPRelate_1.30.1.tar.gz /Library/Frameworks/R.framework/Resources/bin/R SNPRelate.buildbin-libdir StartedAt: 2022-10-19 11:14:05 -0400 (Wed, 19 Oct 2022) EndedAt: 2022-10-19 11:14:59 -0400 (Wed, 19 Oct 2022) EllapsedTime: 54.1 seconds RetCode: 0 Status: OK PackageFile: SNPRelate_1.30.1.tgz PackageFileSize: 3.344 MiB