Package: SIMD Version: 1.13.0 Command: rm -rf SIMD.buildbin-libdir && mkdir SIMD.buildbin-libdir && D:\biocbuild\bbs-3.15-bioc\R\bin\R.exe CMD INSTALL --build --library=SIMD.buildbin-libdir SIMD_1.13.0.tar.gz StartedAt: 2022-03-17 21:40:39 -0400 (Thu, 17 Mar 2022) EndedAt: 2022-03-17 21:41:50 -0400 (Thu, 17 Mar 2022) EllapsedTime: 70.9 seconds RetCode: 0 Status: OK PackageFile: SIMD_1.13.0.zip PackageFileSize: 400.9 KiB