Package: SCATE Version: 1.6.0 Command: rm -rf SCATE.buildbin-libdir && mkdir SCATE.buildbin-libdir && /Users/biocbuild/BBS/utils/build-universal.sh SCATE_1.6.0.tar.gz /Library/Frameworks/R.framework/Resources/bin/R SCATE.buildbin-libdir StartedAt: 2022-10-19 11:07:48 -0400 (Wed, 19 Oct 2022) EndedAt: 2022-10-19 11:09:08 -0400 (Wed, 19 Oct 2022) EllapsedTime: 80.5 seconds RetCode: 0 Status: OK PackageFile: SCATE_1.6.0.tgz PackageFileSize: 317.6 KiB