Package: SAIGEgds Version: 1.10.0 Command: F:\biocbuild\bbs-3.15-bioc\R\bin\R.exe CMD INSTALL SAIGEgds StartedAt: 2022-10-18 15:52:58 -0400 (Tue, 18 Oct 2022) EndedAt: 2022-10-18 15:53:59 -0400 (Tue, 18 Oct 2022) EllapsedTime: 61.0 seconds RetCode: 0 Status: OK