Package: SAIGEgds Version: 1.10.0 Command: /Library/Frameworks/R.framework/Resources/bin/R CMD INSTALL SAIGEgds StartedAt: 2022-10-18 15:25:38 -0400 (Tue, 18 Oct 2022) EndedAt: 2022-10-18 15:26:48 -0400 (Tue, 18 Oct 2022) EllapsedTime: 70.0 seconds RetCode: 0 Status: OK