Package: Ringo Version: 1.60.0 Command: chmod a+r Ringo -R && F:\biocbuild\bbs-3.15-bioc\R\bin\R.exe CMD build --keep-empty-dirs --no-resave-data Ringo StartedAt: 2022-10-18 20:40:17 -0400 (Tue, 18 Oct 2022) EndedAt: 2022-10-18 20:41:20 -0400 (Tue, 18 Oct 2022) EllapsedTime: 62.9 seconds RetCode: 0 Status: OK PackageFile: Ringo_1.60.0.tar.gz PackageFileSize: 914.8 KiB