Package: Ringo Version: 1.60.0 Command: /Library/Frameworks/R.framework/Resources/bin/R CMD check --install=check:Ringo.install-out.txt --library=/Library/Frameworks/R.framework/Resources/library --no-vignettes --timings Ringo_1.60.0.tar.gz StartedAt: 2022-10-19 07:05:31 -0400 (Wed, 19 Oct 2022) EndedAt: 2022-10-19 07:10:08 -0400 (Wed, 19 Oct 2022) EllapsedTime: 276.7 seconds RetCode: 0 Status: OK CheckDir: Ringo.Rcheck Warnings: 0