Package: Rhdf5lib Version: 1.18.2 Command: /Library/Frameworks/R.framework/Resources/bin/R CMD check --install=check:Rhdf5lib.install-out.txt --library=/Library/Frameworks/R.framework/Resources/library --no-vignettes --timings Rhdf5lib_1.18.2.tar.gz StartedAt: 2022-10-19 07:03:40 -0400 (Wed, 19 Oct 2022) EndedAt: 2022-10-19 07:04:09 -0400 (Wed, 19 Oct 2022) EllapsedTime: 29.2 seconds RetCode: 0 Status: OK CheckDir: Rhdf5lib.Rcheck Warnings: 0