Package: Rhdf5lib Version: 1.18.2 Command: /Library/Frameworks/R.framework/Resources/bin/R CMD build --keep-empty-dirs --no-resave-data Rhdf5lib StartedAt: 2022-10-18 21:10:12 -0400 (Tue, 18 Oct 2022) EndedAt: 2022-10-18 21:16:29 -0400 (Tue, 18 Oct 2022) EllapsedTime: 377.4 seconds RetCode: 0 Status: OK PackageFile: Rhdf5lib_1.18.2.tar.gz PackageFileSize: 13.97 MiB