git_url: https://git.bioconductor.org/packages/Rgraphviz git_branch: RELEASE_3_15 git_last_commit: d864c97 git_last_commit_date: 2022-04-26 10:54:52 -0400 (Tue, 26 Apr 2022) Package: Rgraphviz Version: 2.40.0 Maintainer: Kasper Daniel Hansen MaintainerEmail: kasperdanielhansen at gmail.com