Package: ReportingTools Version: 2.36.0 Command: rm -rf ReportingTools.buildbin-libdir && mkdir ReportingTools.buildbin-libdir && /Users/biocbuild/BBS/utils/build-universal.sh ReportingTools_2.36.0.tar.gz /Library/Frameworks/R.framework/Resources/bin/R ReportingTools.buildbin-libdir StartedAt: 2022-10-19 11:00:45 -0400 (Wed, 19 Oct 2022) EndedAt: 2022-10-19 11:02:41 -0400 (Wed, 19 Oct 2022) EllapsedTime: 116.0 seconds RetCode: 0 Status: OK PackageFile: ReportingTools_2.36.0.tgz PackageFileSize: 2.02 MiB