Package: ReactomePA Version: 1.39.0 Command: chmod a+r ReactomePA -R && D:\biocbuild\bbs-3.15-bioc\R\bin\R.exe CMD build --keep-empty-dirs --no-resave-data ReactomePA StartedAt: 2022-03-17 17:51:24 -0400 (Thu, 17 Mar 2022) EndedAt: 2022-03-17 17:51:59 -0400 (Thu, 17 Mar 2022) EllapsedTime: 34.7 seconds RetCode: 0 Status: OK PackageFile: ReactomePA_1.39.0.tar.gz PackageFileSize: 56.55 KiB