Package: ReactomePA Version: 1.39.0 Command: rm -rf ReactomePA.buildbin-libdir && mkdir ReactomePA.buildbin-libdir && D:\biocbuild\bbs-3.15-bioc\R\bin\R.exe CMD INSTALL --build --library=ReactomePA.buildbin-libdir ReactomePA_1.39.0.tar.gz StartedAt: 2022-03-17 21:32:40 -0400 (Thu, 17 Mar 2022) EndedAt: 2022-03-17 21:33:57 -0400 (Thu, 17 Mar 2022) EllapsedTime: 76.6 seconds RetCode: 0 Status: OK PackageFile: ReactomePA_1.39.0.zip PackageFileSize: 101.7 KiB