Package: ReactomePA Version: 1.40.0 Command: /home/biocbuild/bbs-3.15-bioc/R/bin/R CMD INSTALL ReactomePA StartedAt: 2022-10-18 15:35:29 -0400 (Tue, 18 Oct 2022) EndedAt: 2022-10-18 15:35:52 -0400 (Tue, 18 Oct 2022) EllapsedTime: 23.1 seconds RetCode: 0 Status: OK