Package: ReactomeGSA Version: 1.9.1 Command: chmod a+r ReactomeGSA -R && D:\biocbuild\bbs-3.15-bioc\R\bin\R.exe CMD build --keep-empty-dirs --no-resave-data ReactomeGSA StartedAt: 2022-03-17 17:51:20 -0400 (Thu, 17 Mar 2022) EndedAt: 2022-03-17 17:53:47 -0400 (Thu, 17 Mar 2022) EllapsedTime: 146.8 seconds RetCode: 0 Status: OK PackageFile: ReactomeGSA_1.9.1.tar.gz PackageFileSize: 132 KiB