Package: ReactomeGSA Version: 1.10.0 Command: F:\biocbuild\bbs-3.15-bioc\R\bin\R.exe CMD check --no-multiarch --install=check:ReactomeGSA.install-out.txt --library=F:\biocbuild\bbs-3.15-bioc\R\library --no-vignettes --timings ReactomeGSA_1.10.0.tar.gz StartedAt: 2022-10-19 03:19:53 -0400 (Wed, 19 Oct 2022) EndedAt: 2022-10-19 03:34:39 -0400 (Wed, 19 Oct 2022) EllapsedTime: 885.5 seconds RetCode: 0 Status: WARNINGS CheckDir: ReactomeGSA.Rcheck Warnings: 1