Package: ReactomeGSA Version: 1.10.0 Command: chmod a+r ReactomeGSA -R && F:\biocbuild\bbs-3.15-bioc\R\bin\R.exe CMD build --keep-empty-dirs --no-resave-data ReactomeGSA StartedAt: 2022-10-18 20:35:00 -0400 (Tue, 18 Oct 2022) EndedAt: 2022-10-18 20:38:34 -0400 (Tue, 18 Oct 2022) EllapsedTime: 213.9 seconds RetCode: 0 Status: OK PackageFile: ReactomeGSA_1.10.0.tar.gz PackageFileSize: 131.2 KiB