git_url: https://git.bioconductor.org/packages/ReQON git_branch: RELEASE_3_15 git_last_commit: 32776bc git_last_commit_date: 2022-04-26 11:09:35 -0400 (Tue, 26 Apr 2022) Package: ReQON Version: 1.42.0 Maintainer: Christopher Cabanski MaintainerEmail: cabanskc at gmail.com