Package: Rdisop Version: 1.55.0 Command: rm -rf Rdisop.buildbin-libdir && mkdir Rdisop.buildbin-libdir && D:\biocbuild\bbs-3.15-bioc\R\bin\R.exe CMD INSTALL --build --library=Rdisop.buildbin-libdir Rdisop_1.55.0.tar.gz StartedAt: 2022-03-17 21:32:33 -0400 (Thu, 17 Mar 2022) EndedAt: 2022-03-17 21:33:50 -0400 (Thu, 17 Mar 2022) EllapsedTime: 76.3 seconds RetCode: 0 Status: OK PackageFile: Rdisop_1.55.0.zip PackageFileSize: 658.1 KiB