Package: RVS Version: 1.18.0 Command: /Library/Frameworks/R.framework/Resources/bin/R CMD INSTALL RVS StartedAt: 2022-10-18 15:34:18 -0400 (Tue, 18 Oct 2022) EndedAt: 2022-10-18 15:34:39 -0400 (Tue, 18 Oct 2022) EllapsedTime: 21.6 seconds RetCode: 0 Status: OK