Package: RUVnormalize Version: 1.30.0 Command: /Library/Frameworks/R.framework/Resources/bin/R CMD build --keep-empty-dirs --no-resave-data RUVnormalize StartedAt: 2022-10-18 21:24:52 -0400 (Tue, 18 Oct 2022) EndedAt: 2022-10-18 21:25:17 -0400 (Tue, 18 Oct 2022) EllapsedTime: 24.9 seconds RetCode: 0 Status: OK PackageFile: RUVnormalize_1.30.0.tar.gz PackageFileSize: 185.9 KiB