Package: RTNsurvival Version: 1.19.0 Command: D:\biocbuild\bbs-3.15-bioc\R\bin\R.exe CMD INSTALL RTNsurvival StartedAt: 2022-03-17 16:08:24 -0400 (Thu, 17 Mar 2022) EndedAt: 2022-03-17 16:09:47 -0400 (Thu, 17 Mar 2022) EllapsedTime: 82.6 seconds RetCode: 0 Status: OK