Package: RTNsurvival Version: 1.19.0 Command: rm -rf RTNsurvival.buildbin-libdir && mkdir RTNsurvival.buildbin-libdir && D:\biocbuild\bbs-3.15-bioc\R\bin\R.exe CMD INSTALL --build --library=RTNsurvival.buildbin-libdir RTNsurvival_1.19.0.tar.gz StartedAt: 2022-03-17 21:36:05 -0400 (Thu, 17 Mar 2022) EndedAt: 2022-03-17 21:37:49 -0400 (Thu, 17 Mar 2022) EllapsedTime: 104.5 seconds RetCode: 0 Status: OK PackageFile: RTNsurvival_1.19.0.zip PackageFileSize: 997.9 KiB