git_url: https://git.bioconductor.org/packages/RTNsurvival git_branch: RELEASE_3_15 git_last_commit: 86e892c git_last_commit_date: 2022-04-26 11:41:24 -0400 (Tue, 26 Apr 2022) Package: RTNsurvival Version: 1.20.0 Maintainer: Clarice Groeneveld , Mauro A. A. Castro MaintainerEmail: mauro.a.castro at gmail.com