Package: RTNduals Version: 1.20.0 Command: /Library/Frameworks/R.framework/Resources/bin/R CMD INSTALL RTNduals StartedAt: 2022-10-18 16:39:22 -0400 (Tue, 18 Oct 2022) EndedAt: 2022-10-18 16:40:11 -0400 (Tue, 18 Oct 2022) EllapsedTime: 48.9 seconds RetCode: 0 Status: OK