Package: RTN Version: 2.19.0 Command: rm -rf RTN.buildbin-libdir && mkdir RTN.buildbin-libdir && D:\biocbuild\bbs-3.15-bioc\R\bin\R.exe CMD INSTALL --build --library=RTN.buildbin-libdir RTN_2.19.0.tar.gz StartedAt: 2022-03-17 21:36:02 -0400 (Thu, 17 Mar 2022) EndedAt: 2022-03-17 21:37:47 -0400 (Thu, 17 Mar 2022) EllapsedTime: 105.4 seconds RetCode: 0 Status: OK PackageFile: RTN_2.19.0.zip PackageFileSize: 10.58 MiB