Package: RTN Version: 2.20.0 Command: /home/biocbuild/bbs-3.15-bioc/R/bin/R CMD build --keep-empty-dirs --no-resave-data RTN StartedAt: 2022-10-18 17:55:18 -0400 (Tue, 18 Oct 2022) EndedAt: 2022-10-18 17:57:27 -0400 (Tue, 18 Oct 2022) EllapsedTime: 128.6 seconds RetCode: 0 Status: OK PackageFile: RTN_2.20.0.tar.gz PackageFileSize: 10.53 MiB