Package: RTN Version: 2.20.0 Command: /Library/Frameworks/R.framework/Resources/bin/R CMD check --install=check:RTN.install-out.txt --library=/Library/Frameworks/R.framework/Resources/library --no-vignettes --timings RTN_2.20.0.tar.gz StartedAt: 2022-10-19 07:25:27 -0400 (Wed, 19 Oct 2022) EndedAt: 2022-10-19 07:32:15 -0400 (Wed, 19 Oct 2022) EllapsedTime: 408.0 seconds RetCode: 0 Status: OK CheckDir: RTN.Rcheck Warnings: 0