Package: RSVSim Version: 1.35.1 Command: D:\biocbuild\bbs-3.15-bioc\R\bin\R.exe CMD check --no-multiarch --install=check:RSVSim.install-out.txt --library=D:\biocbuild\bbs-3.15-bioc\R\library --no-vignettes --timings RSVSim_1.35.1.tar.gz StartedAt: 2022-03-17 20:08:34 -0400 (Thu, 17 Mar 2022) EndedAt: 2022-03-17 20:11:22 -0400 (Thu, 17 Mar 2022) EllapsedTime: 168.0 seconds RetCode: 0 Status: OK CheckDir: RSVSim.Rcheck Warnings: 0