Package: RSVSim Version: 1.35.1 Command: rm -rf RSVSim.buildbin-libdir && mkdir RSVSim.buildbin-libdir && D:\biocbuild\bbs-3.15-bioc\R\bin\R.exe CMD INSTALL --build --library=RSVSim.buildbin-libdir RSVSim_1.35.1.tar.gz StartedAt: 2022-03-17 21:35:55 -0400 (Thu, 17 Mar 2022) EndedAt: 2022-03-17 21:37:32 -0400 (Thu, 17 Mar 2022) EllapsedTime: 96.9 seconds RetCode: 0 Status: OK PackageFile: RSVSim_1.35.1.zip PackageFileSize: 675.6 KiB